BEGIN:VCALENDAR
VERSION:2.0
PRODID:-//Bike-Fit Fitness- und Fahrtechniktraining mit dem Fahrrad für alle Altersklassen
CALSCALE:GREGORIAN
METHOD:PUBLISH
X-WR-CALNAME:Bike-Fit Fitness- und Fahrtechniktraining mit dem Fahrrad für alle Altersklassen
X-ORIGINAL-URL:https://bike-fit-training.de/kurse/saferider-basistraining-sonnabend-900-1030-uhr-jugendverkehrsschule-spandau-11/
X-WR-CALDESC:SafeRider Basistraining Sonnabend, 11:00 &#8211; 12:30 Uhr, Jugendverkehrsschule Spandau
BEGIN:VEVENT
DTSTART;TZID=Europe/London:20260509T110000
DTEND;TZID=Europe/London:20260509T003000
SUMMARY:SafeRider Basistraining Sonnabend, 11:00 – 12:30 Uhr, Jugendverkehrsschule Spandau
DESCRIPTION:
URL:https://bike-fit-training.de/kurse/saferider-basistraining-sonnabend-900-1030-uhr-jugendverkehrsschule-spandau-11/
LOCATION:
END:VEVENT
END:VCALENDAR
