BEGIN:VCALENDAR
VERSION:2.0
PRODID:-//Bike-Fit Fitness- und Fahrtechniktraining mit dem Fahrrad für alle Altersklassen
CALSCALE:GREGORIAN
METHOD:PUBLISH
X-WR-CALNAME:Bike-Fit Fitness- und Fahrtechniktraining mit dem Fahrrad für alle Altersklassen
X-ORIGINAL-URL:https://bike-fit-training.de/kurse/saferider-basistraining-sonnabend-09-06-26-900-1030-uhr-jugendverkehrsschule-spandau-2/
X-WR-CALDESC:SafeRider Basistraining Sonnabend, 9:00-10:30 Uhr, Jugendverkehrsschule Spandau
BEGIN:VEVENT
DTSTART;TZID=Europe/London:20260523T090000
DTEND;TZID=Europe/London:20260523T103000
SUMMARY:SafeRider Basistraining Sonnabend, 9:00-10:30 Uhr, Jugendverkehrsschule Spandau
DESCRIPTION:
URL:https://bike-fit-training.de/kurse/saferider-basistraining-sonnabend-09-06-26-900-1030-uhr-jugendverkehrsschule-spandau-2/
LOCATION:
END:VEVENT
END:VCALENDAR
